BEGIN:VCALENDAR
VERSION:2.0
PRODID:-//Military Women&#039;s Memorial - ECPv5.8.0//NONSGML v1.0//EN
CALSCALE:GREGORIAN
METHOD:PUBLISH
X-WR-CALNAME:Military Women&#039;s Memorial
X-ORIGINAL-URL:https://womensmemorial.org
X-WR-CALDESC:Events for Military Women&#039;s Memorial
BEGIN:VTIMEZONE
TZID:UTC
BEGIN:STANDARD
TZOFFSETFROM:+0000
TZOFFSETTO:+0000
TZNAME:UTC
DTSTART:20210101T000000
END:STANDARD
TZID:America/Halifax
BEGIN:DAYLIGHT
TZOFFSETFROM:-0400
TZOFFSETTO:-0300
TZNAME:ADT
DTSTART:20210314T060000
END:DAYLIGHT
BEGIN:STANDARD
TZOFFSETFROM:-0300
TZOFFSETTO:-0400
TZNAME:AST
DTSTART:20211107T050000
END:STANDARD
END:VTIMEZONE
BEGIN:VEVENT
DTSTART;TZID=UTC:20210320T110000
DTEND;TZID=UTC:20210320T163000
DTSTAMP:20210706T075703
CREATED:20210127T185511Z
LAST-MODIFIED:20210308T190935Z
UID:2653-1616238000-1616257800@womensmemorial.org
SUMMARY:HERstory: Activity Cart
DESCRIPTION:Check out our Activity Cart. We have a number of different activities which change on a regular basis. In support of our newest exhibit\, The Color of Freedom\, join us for a scavenger hunt through the exhibit. The answers to the scavenger hunt may help you win playing BINGO!
URL:https://womensmemorial.org/index.php/program/herstory-activity-cart/2021-03-20/
LOCATION:Military Women’s Memorial\, Memorial Ave & Schley Dr\,\, Arlington\, VA\, 22202\, United States
CATEGORIES:Activity Cart,In Person,The Color of Freedom
ATTACH;FMTTYPE=image/jpeg:https://womensmemorial.org/wp-content/uploads/2021/01/HERstoryCoFActivityCart-scaled-e1615216006720.jpg
END:VEVENT
BEGIN:VEVENT
DTSTART;TZID=UTC:20210327T110000
DTEND;TZID=UTC:20210327T163000
DTSTAMP:20210706T075703
CREATED:20210127T185511Z
LAST-MODIFIED:20210308T190938Z
UID:2654-1616842800-1616862600@womensmemorial.org
SUMMARY:HERstory: Activity Cart
DESCRIPTION:Check out our Activity Cart. We have a number of different activities which change on a regular basis. In support of our newest exhibit\, The Color of Freedom\, join us for a scavenger hunt through the exhibit. The answers to the scavenger hunt may help you win playing BINGO!
URL:https://womensmemorial.org/index.php/program/herstory-activity-cart/2021-03-27/
LOCATION:Military Women’s Memorial\, Memorial Ave & Schley Dr\,\, Arlington\, VA\, 22202\, United States
CATEGORIES:Activity Cart,In Person,The Color of Freedom
ATTACH;FMTTYPE=image/jpeg:https://womensmemorial.org/wp-content/uploads/2021/01/HERstoryCoFActivityCart-scaled-e1615216006720.jpg
END:VEVENT
BEGIN:VEVENT
DTSTART;TZID=UTC:20210403T110000
DTEND;TZID=UTC:20210403T163000
DTSTAMP:20210706T075703
CREATED:20210127T185511Z
LAST-MODIFIED:20210308T190941Z
UID:2655-1617447600-1617467400@womensmemorial.org
SUMMARY:HERstory: Activity Cart
DESCRIPTION:Check out our Activity Cart. We have a number of different activities which change on a regular basis. In support of our newest exhibit\, The Color of Freedom\, join us for a scavenger hunt through the exhibit. The answers to the scavenger hunt may help you win playing BINGO!
URL:https://womensmemorial.org/index.php/program/herstory-activity-cart/2021-04-03/
LOCATION:Military Women’s Memorial\, Memorial Ave & Schley Dr\,\, Arlington\, VA\, 22202\, United States
CATEGORIES:Activity Cart,In Person,The Color of Freedom
ATTACH;FMTTYPE=image/jpeg:https://womensmemorial.org/wp-content/uploads/2021/01/HERstoryCoFActivityCart-scaled-e1615216006720.jpg
END:VEVENT
BEGIN:VEVENT
DTSTART;TZID=UTC:20210417T110000
DTEND;TZID=UTC:20210417T163000
DTSTAMP:20210706T075703
CREATED:20210127T185511Z
LAST-MODIFIED:20210308T190944Z
UID:2656-1618657200-1618677000@womensmemorial.org
SUMMARY:HERstory: Activity Cart
DESCRIPTION:Check out our Activity Cart. We have a number of different activities which change on a regular basis. In support of our newest exhibit\, The Color of Freedom\, join us for a scavenger hunt through the exhibit. The answers to the scavenger hunt may help you win playing BINGO!
URL:https://womensmemorial.org/index.php/program/herstory-activity-cart/2021-04-17/
LOCATION:Military Women’s Memorial\, Memorial Ave & Schley Dr\,\, Arlington\, VA\, 22202\, United States
CATEGORIES:Activity Cart,In Person,The Color of Freedom
ATTACH;FMTTYPE=image/jpeg:https://womensmemorial.org/wp-content/uploads/2021/01/HERstoryCoFActivityCart-scaled-e1615216006720.jpg
END:VEVENT
BEGIN:VEVENT
DTSTART;TZID=America/Halifax:20210417T170000
DTEND;TZID=America/Halifax:20210417T190000
DTSTAMP:20210706T075703
CREATED:20210319T205519Z
LAST-MODIFIED:20210414T191829Z
UID:2915-1618678800-1618686000@womensmemorial.org
SUMMARY:Film Screening: The Six Triple Eight: No Mail\, Low Morale
DESCRIPTION:Join us for an online viewing of the documentary “The Six Triple Eight: No Mail\, Low Morale” followed by a discussion with the film’s producers. MWM President Phyllis Wilson sits down with producers Edna W. Cummings and Elizabeth Helm-Frazier to discuss the making of the film and the women who served in the 6888th Central Postal Directory Battalion. \n\nSOLD OUT\n\nAbout the film: In February 1945\, the U.S. Army sent 855 black women from the Women’s Army Corps (WACs) to England and France to clear the backlog of mail in the European Theater of Operations.  The 6888th Central Postal Directory Battalion\, known as the SixTripleEight\, was the only all-black female battalion to serve in Europe during WWII.  Confronted with racism and sexism from their own leadership and troops\, they served with honor and distinction completing their mission in six months.  By war’s end\, the SixTripleEight had cleared over 17 million pieces of backlogged mail ensuring the troops stayed in touch with their loved ones back home.  The last of the women returned home in March 1946.   They were never fully recognized…until now.
URL:https://womensmemorial.org/index.php/program/film-screening-the-six-triple-eight-no-mail-low-morale/
LOCATION:Virtual
CATEGORIES:Films,The Color of Freedom,Virtual
ATTACH;FMTTYPE=image/jpeg:https://womensmemorial.org/wp-content/uploads/2021/03/6888th_ZoomBanner_Square-e1616191576656.jpg
END:VEVENT
BEGIN:VEVENT
DTSTART;TZID=UTC:20210513T140000
DTEND;TZID=UTC:20210513T143000
DTSTAMP:20210706T075703
CREATED:20210128T020338Z
LAST-MODIFIED:20210513T141646Z
UID:2418-1620914400-1620916200@womensmemorial.org
SUMMARY:HERstory | Dr. Mylène Huynh
DESCRIPTION:Dr. Mylène Huynh sits down with MWM President Phyllis Wilson to discuss her service in the United States Air Force\, how her childhood in Vietnam during the war impacted her choice to join the Air Force\, and how her early exposure to her parent’s medical background influenced her current medical practice. \n\nWATCH HERE \n\nDr. Mylène (“Mee-lenn”) Huynh (“Winn”) is board certified in Family Practice and Preventive Medicine with over 20 years experience in integrative health and medical acupuncture. Dr. Huynh’s passion is health and healing with a life mission to promote healthier communities. She is a functional medicine practitioner with special interest and training in clinical nutrition\, lifestyle medicine\, mindfulness meditation and evidence-based approaches to reversing chronic diseases. \nDr. Huynh obtained both her undergraduate and medical degrees from the University of Virginia in Charlottesville.  She completed a 21-year US Air Force career as a flight surgeon\, family medicine academic faculty\, clinic director\, consultant to the USAF Surgeon General on preventive medicine and global health.  In addition to TruPoint Health\, she serves as an integrative health physician at the Walter Reed National Military Medical Center.  Dr. Huynh holds appointment as Adjunct Assistant Professor in the Department of Preventive Medicine and Biometrics at the Uniformed Services University of the Health Sciences in Bethesda\, MD. \nPresenting Sponsor for The Color of Freedom: Honoring the Diversity of America’s Servicewomen is Comcast NBCUniversal\, with additional support from GEICO Military\, Northrop Grumman\, Tito’s Handmade Vodka and Cerner Corporation.
URL:https://womensmemorial.org/index.php/program/herstory-3/
LOCATION:Virtual
CATEGORIES:HERstory,The Color of Freedom,Virtual
ATTACH;FMTTYPE=image/png:https://womensmemorial.org/wp-content/uploads/2021/01/HERstoryDr.png
END:VEVENT
BEGIN:VEVENT
DTSTART;TZID=UTC:20210715T140000
DTEND;TZID=UTC:20210715T143000
DTSTAMP:20210706T075703
CREATED:20210201T005823Z
LAST-MODIFIED:20210623T192103Z
UID:2522-1626357600-1626359400@womensmemorial.org
SUMMARY:HERstory | Summer With The Arts
DESCRIPTION:As part of our Summer With The Arts series\, this month’s HERstory highlights two women\, both featured in the current exhibit created in partnership with UnitingUS. Military Women’s Memorial Collections Manager Amy Poe sits down with Gail Belmont and April Goodwin-Gill. Gail and April discuss how their military service played a central role in shaping who they are and how it has influenced their work as artists. Gail and April have found healing and comfort in their art and use it to inspire other veterans\, service members\, and their communities. Listen to the powerful stories of these veteran artists and learn about the meaning and creative process behind their art. \n  \n\nREGISTER HERE\n\nApril Goodwin-Gill is an Army veteran who worked as an Ammunition Weapons Specialist in the 1980s. April served in Colorado\, Italy\, Texas and Alabama. She has turned to art as a therapeutic way to express herself. \nGail Belmont is a former WAC (Women’s Army Corp) who played trumpet in the WAC band during the Vietnam War. She served both on active duty and in the reserves in the late 60s and 70s\, and then spent 25 years working as an Army civilian for the Department of Defense as a data administrator. In her role in the WAC band\, she performed Taps at military funerals which was an emotionally taxing responsibility. In turn\, she turned to quilting as a form of art therapy to help her manager her PTSD (post traumatic stress disorder). \nSummer With The Arts was created in partnership with: \n \n  \n  \n  \nThe presenting sponsor of Summer With The Arts is OptumServe. \n \n  \n  \nPresenting Sponsor for The Color of Freedom: Honoring the Diversity of America’s Servicewomen is Comcast NBCUniversal\, with additional support from GEICO Military\, Northrop Grumman\, Tito’s Handmade Vodka and Cerner Corporation.
URL:https://womensmemorial.org/index.php/program/herstory-5/
LOCATION:Virtual
CATEGORIES:HERstory,Summer With The Arts,The Color of Freedom,Virtual
ATTACH;FMTTYPE=image/png:https://womensmemorial.org/wp-content/uploads/2021/01/SWTA-COF-HERstory-e1624471733244.png
END:VEVENT
END:VCALENDAR