BEGIN:VCALENDAR
VERSION:2.0
PRODID:-//Military Women&#039;s Memorial - ECPv5.6.0//NONSGML v1.0//EN
CALSCALE:GREGORIAN
METHOD:PUBLISH
X-WR-CALNAME:Military Women&#039;s Memorial
X-ORIGINAL-URL:https://womensmemorial.org
X-WR-CALDESC:Events for Military Women&#039;s Memorial
BEGIN:VTIMEZONE
TZID:UTC
BEGIN:STANDARD
TZOFFSETFROM:+0000
TZOFFSETTO:+0000
TZNAME:UTC
DTSTART:20210101T000000
END:STANDARD
END:VTIMEZONE
BEGIN:VEVENT
DTSTART;TZID=UTC:20210513T140000
DTEND;TZID=UTC:20210513T143000
DTSTAMP:20210514T061643
CREATED:20210128T020338Z
LAST-MODIFIED:20210513T141646Z
UID:2418-1620914400-1620916200@womensmemorial.org
SUMMARY:HERstory | Dr. Mylène Huynh
DESCRIPTION:Dr. Mylène Huynh sits down with MWM President Phyllis Wilson to discuss her service in the United States Air Force\, how her childhood in Vietnam during the war impacted her choice to join the Air Force\, and how her early exposure to her parent’s medical background influenced her current medical practice. \n\nWATCH HERE \n\nDr. Mylène (“Mee-lenn”) Huynh (“Winn”) is board certified in Family Practice and Preventive Medicine with over 20 years experience in integrative health and medical acupuncture. Dr. Huynh’s passion is health and healing with a life mission to promote healthier communities. She is a functional medicine practitioner with special interest and training in clinical nutrition\, lifestyle medicine\, mindfulness meditation and evidence-based approaches to reversing chronic diseases. \nDr. Huynh obtained both her undergraduate and medical degrees from the University of Virginia in Charlottesville.  She completed a 21-year US Air Force career as a flight surgeon\, family medicine academic faculty\, clinic director\, consultant to the USAF Surgeon General on preventive medicine and global health.  In addition to TruPoint Health\, she serves as an integrative health physician at the Walter Reed National Military Medical Center.  Dr. Huynh holds appointment as Adjunct Assistant Professor in the Department of Preventive Medicine and Biometrics at the Uniformed Services University of the Health Sciences in Bethesda\, MD. \nPresenting Sponsor for The Color of Freedom: Honoring the Diversity of America’s Servicewomen is Comcast NBCUniversal\, with additional support from GEICO Military\, Northrop Grumman\, Tito’s Handmade Vodka and Cerner Corporation.
URL:https://womensmemorial.org/index.php/program/herstory-3/
LOCATION:Virtual
CATEGORIES:HERstory,The Color of Freedom,Virtual
ATTACH;FMTTYPE=image/png:https://womensmemorial.org/wp-content/uploads/2021/01/HERstoryDr.png
END:VEVENT
END:VCALENDAR