BEGIN:VCALENDAR
VERSION:2.0
PRODID:-//Military Women&#039;s Memorial - ECPv5.6.0//NONSGML v1.0//EN
CALSCALE:GREGORIAN
METHOD:PUBLISH
X-WR-CALNAME:Military Women&#039;s Memorial
X-ORIGINAL-URL:https://womensmemorial.org
X-WR-CALDESC:Events for Military Women&#039;s Memorial
BEGIN:VTIMEZONE
TZID:UTC
BEGIN:STANDARD
TZOFFSETFROM:+0000
TZOFFSETTO:+0000
TZNAME:UTC
DTSTART:20210101T000000
END:STANDARD
END:VTIMEZONE
BEGIN:VEVENT
DTSTART;TZID=UTC:20210206T110000
DTEND;TZID=UTC:20210206T163000
DTSTAMP:20210507T124257
CREATED:20210127T185511Z
LAST-MODIFIED:20210308T190924Z
UID:2337-1612609200-1612629000@womensmemorial.org
SUMMARY:HERstory: Activity Cart
DESCRIPTION:Check out our Activity Cart. We have a number of different activities which change on a regular basis. In support of our newest exhibit\, The Color of Freedom\, join us for a scavenger hunt through the exhibit. The answers to the scavenger hunt may help you win playing BINGO!
URL:https://womensmemorial.org/index.php/program/herstory-activity-cart/2021-02-06/
LOCATION:Military Women’s Memorial\, Memorial Ave & Schley Dr\,\, Arlington\, VA\, 22202\, United States
CATEGORIES:Activity Cart,In Person,The Color of Freedom
ATTACH;FMTTYPE=image/jpeg:https://womensmemorial.org/wp-content/uploads/2021/01/HERstoryCoFActivityCart-scaled-e1615216006720.jpg
END:VEVENT
BEGIN:VEVENT
DTSTART;TZID=UTC:20210215T110000
DTEND;TZID=UTC:20210215T163000
DTSTAMP:20210507T124257
CREATED:20210127T185511Z
LAST-MODIFIED:20210308T190925Z
UID:2378-1613386800-1613406600@womensmemorial.org
SUMMARY:HERstory: Activity Cart
DESCRIPTION:Check out our Activity Cart. We have a number of different activities which change on a regular basis. In support of our newest exhibit\, The Color of Freedom\, join us for a scavenger hunt through the exhibit. The answers to the scavenger hunt may help you win playing BINGO!
URL:https://womensmemorial.org/index.php/program/herstory-activity-cart/2021-02-15/
LOCATION:Military Women’s Memorial\, Memorial Ave & Schley Dr\,\, Arlington\, VA\, 22202\, United States
CATEGORIES:Activity Cart,In Person,The Color of Freedom
ATTACH;FMTTYPE=image/jpeg:https://womensmemorial.org/wp-content/uploads/2021/01/HERstoryCoFActivityCart-scaled-e1615216006720.jpg
END:VEVENT
BEGIN:VEVENT
DTSTART;TZID=UTC:20210220T110000
DTEND;TZID=UTC:20210220T163000
DTSTAMP:20210507T124257
CREATED:20210127T185511Z
LAST-MODIFIED:20210308T190927Z
UID:2379-1613818800-1613838600@womensmemorial.org
SUMMARY:HERstory: Activity Cart
DESCRIPTION:Check out our Activity Cart. We have a number of different activities which change on a regular basis. In support of our newest exhibit\, The Color of Freedom\, join us for a scavenger hunt through the exhibit. The answers to the scavenger hunt may help you win playing BINGO!
URL:https://womensmemorial.org/index.php/program/herstory-activity-cart/2021-02-20/
LOCATION:Military Women’s Memorial\, Memorial Ave & Schley Dr\,\, Arlington\, VA\, 22202\, United States
CATEGORIES:Activity Cart,In Person,The Color of Freedom
ATTACH;FMTTYPE=image/jpeg:https://womensmemorial.org/wp-content/uploads/2021/01/HERstoryCoFActivityCart-scaled-e1615216006720.jpg
END:VEVENT
END:VCALENDAR