BEGIN:VCALENDAR
VERSION:2.0
PRODID:-//Military Women&#039;s Memorial - ECPv5.7.0//NONSGML v1.0//EN
CALSCALE:GREGORIAN
METHOD:PUBLISH
X-WR-CALNAME:Military Women&#039;s Memorial
X-ORIGINAL-URL:https://womensmemorial.org
X-WR-CALDESC:Events for Military Women&#039;s Memorial
BEGIN:VTIMEZONE
TZID:UTC
BEGIN:STANDARD
TZOFFSETFROM:+0000
TZOFFSETTO:+0000
TZNAME:UTC
DTSTART:20210101T000000
END:STANDARD
END:VTIMEZONE
BEGIN:VEVENT
DTSTART;TZID=UTC:20210114T140000
DTEND;TZID=UTC:20210114T143000
DTSTAMP:20210528T012224
CREATED:20210128T015815Z
LAST-MODIFIED:20210314T183230Z
UID:2412-1610632800-1610634600@womensmemorial.org
SUMMARY:HERstory: "The Grit Factor" with Shannon Huffman Polson
DESCRIPTION:Shannon Huffman Polson sits down with Military Women’s Memorial President\, Phyllis Wilson\, to discuss her experience as a woman in the Military. At graduation from Duke University\, Shannon was commissioned as a 2nd Lt. in Army Aviation where she became one of the first women to fly Apache helicopters\, serving on three continents and leading two flight platoons and a line company. Following her service in the Army\, Shannon joined the corporate world. Today\, she is the founder of The Grit Institute and author of the new book The Grit Factor: Courage\, Resilience\, and Leadership in the Most Male-Dominated Organization in the World where she tells the tales of trailblazing women who learned to lead at the highest levels and how they overcame adversity and learned from their experiences. \n\nWATCH THE EVENT \n\nGet the book. \n 
URL:https://womensmemorial.org/index.php/program/herstory-the-grit-factor-with-shannon-huffman-polson/
LOCATION:Virtual
CATEGORIES:HERstory,Past Events,Virtual
ATTACH;FMTTYPE=image/png:https://womensmemorial.org/wp-content/uploads/2021/01/HERStory-Eventbrite-2-e1611784567337.png
END:VEVENT
END:VCALENDAR